BEGIN:VCALENDAR
VERSION:2.0
PRODID:-//PYVOBJECT//NONSGML Version 1//EN
BEGIN:VEVENT
UID:17118:1636
DTSTART:20130901T000000
DTEND:20131231T000000
DESCRIPTION:Nutzen Sie unsere tollen Rabatte und Aktionen im Herbst 2013
DTSTAMP:20260420T031441Z
SUMMARY:Herbstaktionen 2013
END:VEVENT
END:VCALENDAR
