BEGIN:VCALENDAR
VERSION:2.0
PRODID:-//PYVOBJECT//NONSGML Version 1//EN
BEGIN:VEVENT
UID:17118:2558
DTSTART:20140901T000000
DTEND:20141231T000000
DESCRIPTION:\n
DTSTAMP:20260419T233850Z
SUMMARY:Herbstaktionen 2014
END:VEVENT
END:VCALENDAR
